{"text_format":"1","workbook":"xlsx","n_sheets":2,"sheets":["DRUŻYNY","WYNIKI"],"not_rendered":{"charts":0,"images":0,"macros":1,"external_links":1,"defined_names":0,"comments":0,"pivot_tables":0},"unopened":[],"bounds":{"document_bytes":16777216,"sheet_cells":100000,"rows_first":2000,"rows_last":500,"rows_between":2000,"halvings":0,"cell_chars":16384,"cell_head_chars":4096},"cells_cut":0,"cells_raw":0,"read":"whole","date_system":"1900"}

{"sheet":"DRUŻYNY","index":0,"n_rows":85,"n_cols":16,"rows_kept":85,"cut":false,"hidden":false,"merged":[[14,0,18,0],[14,1,18,1],[14,6,18,6],[14,7,18,7],[0,14,0,15],[8,0,12,0],[8,1,12,1],[8,6,12,6],[8,7,12,7],[20,0,24,0],[20,1,24,1],[20,6,24,6],[20,7,24,7],[26,0,30,0],[26,1,30,1],[26,6,30,6],[26,7,30,7],[32,0,36,0],[32,1,36,1],[32,6,36,6],[32,7,36,7],[38,0,42,0],[38,1,42,1],[38,6,42,6],[38,7,42,7],[44,0,48,0],[44,1,48,1],[44,6,48,6],[44,7,48,7],[50,0,54,0],[50,1,54,1],[50,6,54,6],[50,7,54,7],[56,0,60,0],[56,1,60,1],[56,6,60,6],[56,7,60,7],[62,0,66,0],[62,1,66,1],[62,6,66,6],[62,7,66,7],[80,0,84,0],[80,1,84,1],[80,6,84,6],[80,7,84,7],[68,0,72,0],[68,1,72,1],[68,6,72,6],[68,7,72,7],[74,0,78,0],[74,1,78,1],[74,6,78,6],[74,7,78,7]]}
[null,"UZUPEŁNIĆ NAJWYŻSZE WYNIKI NA DANYCH ZAWODACH:",null,null,null,null,null,null,null,null,null,null,null,null,"FT"]
[null,"HFT1",96,"pkt",null,null,null,null,null,null,null,null,null,null,"zdob pkt:",45]
[null,"HFT2",91,"pkt",null,null,"max:",null,null,null,null,null,null,null,"cał. chyb.:",0]
[null,"FT",95,"pkt",null,null,{"$f":"MAX(G27,G15,G33,G39,G57,G9,G69,G21,G63,G45,G51,G75,G81)","v":2.9163377192982454},null,null,null,null,null,null,null,"do wpisania:",{"$f":"P2*2+(40-P2)-P3","v":85}]
[null,"JM",1,"pkt"]
[null,"JS",1,"pkt"]
[]
["Nr","Nazwa drużyny","Skład drużyny","kat.","%","pkt","Suma 3 zawodników","Suma do Pucharu"]
[1,"JURA TEAM","Paweł Świtkowski","FT",{"$f":"IF(D9=$B$2,F9/$C$2,IF(D9=$B$4,F9/$C$4,IF(D9=$B$5,F9/$C$5,IF(D9=$B$6,F9/$C$6,IF(D9=$B$3,F9/$C$3,\"ERROR!!!\")))))","v":1},95,{"$f":"LARGE(E9:E13,1)+LARGE(E9:E13,2)+LARGE(E9:E13,3)","v":2.9163377192982454},{"$f":"G9/$G$4","v":1}]
[null,null,"Marcin Krajs","FT",{"$f":"IF(D10=$B$2,F10/$C$2,IF(D10=$B$4,F10/$C$4,IF(D10=$B$5,F10/$C$5,IF(D10=$B$6,F10/$C$6,IF(D10=$B$3,F10/$C$3,\"ERROR!!!\")))))","v":0.96842105263157896},92]
[null,null,"Alicja Zając","HFT1",{"$f":"IF(D11=$B$2,F11/$C$2,IF(D11=$B$4,F11/$C$4,IF(D11=$B$5,F11/$C$5,IF(D11=$B$6,F11/$C$6,IF(D11=$B$3,F11/$C$3,\"ERROR!!!\")))))","v":0.94791666666666663},91]
[null,null,"Krzysztof Zając","HFT1",{"$f":"IF(D12=$B$2,F12/$C$2,IF(D12=$B$4,F12/$C$4,IF(D12=$B$5,F12/$C$5,IF(D12=$B$6,F12/$C$6,IF(D12=$B$3,F12/$C$3,\"ERROR!!!\")))))","v":0.89583333333333337},86]
[null,null,"Radosław Koclęga","FT",0.78947368421052633,75]
[null,null,null,null,null,null,null,null,null,null,{"$f":"B9","v":"JURA TEAM"},{"$f":"G9","v":2.9163377192982454}]
[2,"DGST LOK Beaver","Bartłomiej Cywiński","HFT1",{"$f":"IF(D15=$B$2,F15/$C$2,IF(D15=$B$4,F15/$C$4,IF(D15=$B$5,F15/$C$5,IF(D15=$B$6,F15/$C$6,IF(D15=$B$3,F15/$C$3,\"ERROR!!!\")))))","v":0.88541666666666663},85,{"$f":"LARGE(E15:E19,1)+LARGE(E15:E19,2)+LARGE(E15:E19,3)","v":2.84192331791016},{"$f":"G15/$G$4","v":0.97448361316466747},null,null,{"$f":"B21","v":"AUTOS WIKING"},{"$f":"G21","v":2.8645833333333335}]
[null,null,"Paweł Wietrzykowski","HFT1",{"$f":"IF(D16=$B$2,F16/$C$2,IF(D16=$B$4,F16/$C$4,IF(D16=$B$5,F16/$C$5,IF(D16=$B$6,F16/$C$6,IF(D16=$B$3,F16/$C$3,\"ERROR!!!\")))))","v":0.82291666666666663},79,null,null,null,null,{"$f":"B63","v":0},{"$f":"G63","v":0}]
[null,null,"Maciej Fałkowski","FT",{"$f":"IF(D17=$B$2,F17/$C$2,IF(D17=$B$4,F17/$C$4,IF(D17=$B$5,F17/$C$5,IF(D17=$B$6,F17/$C$6,IF(D17=$B$3,F17/$C$3,\"ERROR!!!\")))))","v":0.86315789473684212},82,null,null,null,null,{"$f":"B45","v":"Orzoł"},{"$f":"G45","v":1.8020833333333335}]
[null,null,"Sławek Opiela","FT",{"$f":"IF(D18=$B$2,F18/$C$2,IF(D18=$B$4,F18/$C$4,IF(D18=$B$5,F18/$C$5,IF(D18=$B$6,F18/$C$6,IF(D18=$B$3,F18/$C$3,\"ERROR!!!\")))))","v":0.98947368421052628},94,null,null,null,null,{"$f":"B51","v":0},{"$f":"G51","v":0}]
[null,null,"Tomasz Widła","HFT2",{"$f":"IF(D19=$B$2,F19/$C$2,IF(D19=$B$4,F19/$C$4,IF(D19=$B$5,F19/$C$5,IF(D19=$B$6,F19/$C$6,IF(D19=$B$3,F19/$C$3,\"ERROR!!!\")))))","v":0.96703296703296704},88,null,null,null,null,{"$f":"B75","v":0},{"$f":"G75","v":0}]
[]
[3,"AUTOS WIKING","Paweł Buchalski","HFT1",{"$f":"IF(D21=$B$2,F21/$C$2,IF(D21=$B$4,F21/$C$4,IF(D21=$B$5,F21/$C$5,IF(D21=$B$6,F21/$C$6,IF(D21=$B$3,F21/$C$3,\"ERROR!!!\")))))","v":0.89583333333333337},86,{"$f":"LARGE(E21:E25,1)+LARGE(E21:E25,2)+LARGE(E21:E25,3)","v":2.8645833333333335},{"$f":"G21/$G$4","v":0.98225363762830409}]
[null,null,"Mirosław Maciejewicz","HFT1",{"$f":"IF(D22=$B$2,F22/$C$2,IF(D22=$B$4,F22/$C$4,IF(D22=$B$5,F22/$C$5,IF(D22=$B$6,F22/$C$6,IF(D22=$B$3,F22/$C$3,\"ERROR!!!\")))))","v":0.92708333333333337},89]
[null,null,"Krzysztof Szałkowski","HFT1",{"$f":"IF(D23=$B$2,F23/$C$2,IF(D23=$B$4,F23/$C$4,IF(D23=$B$5,F23/$C$5,IF(D23=$B$6,F23/$C$6,IF(D23=$B$3,F23/$C$3,\"ERROR!!!\")))))","v":1},96]
[null,null,"Tomasz Cielepak","FT",{"$f":"IF(D24=$B$2,F24/$C$2,IF(D24=$B$4,F24/$C$4,IF(D24=$B$5,F24/$C$5,IF(D24=$B$6,F24/$C$6,IF(D24=$B$3,F24/$C$3,\"ERROR!!!\")))))","v":0.87368421052631584},83]
[null,null,"Grzegorz Lisowski","HFT1",{"$f":"IF(D25=$B$2,F25/$C$2,IF(D25=$B$4,F25/$C$4,IF(D25=$B$5,F25/$C$5,IF(D25=$B$6,F25/$C$6,IF(D25=$B$3,F25/$C$3,\"ERROR!!!\")))))","v":0.9375},90]
[]
[4,"WKFT","Robert Szambelan","FT",{"$f":"IF(D27=$B$2,F27/$C$2,IF(D27=$B$4,F27/$C$4,IF(D27=$B$5,F27/$C$5,IF(D27=$B$6,F27/$C$6,IF(D27=$B$3,F27/$C$3,\"ERROR!!!\")))))","v":0.9263157894736842},88,{"$f":"LARGE(E27:E31,1)+LARGE(E27:E31,2)+LARGE(E27:E31,3)","v":2.9157894736842103},{"$f":"G27/$G$4","v":0.99981200887318122},null,null,{"$f":"B27","v":"WKFT"},{"$f":"G27","v":2.9157894736842103}]
[null,null,"Janusz Pelucha","FT",{"$f":"IF(D28=$B$2,F28/$C$2,IF(D28=$B$4,F28/$C$4,IF(D28=$B$5,F28/$C$5,IF(D28=$B$6,F28/$C$6,IF(D28=$B$3,F28/$C$3,\"ERROR!!!\")))))","v":0.96842105263157896},92,null,null,null,null,{"$f":"B15","v":"DGST LOK Beaver"},{"$f":"G15","v":2.84192331791016}]
[null,null,"Radosław Rozum","FT",{"$f":"IF(D29=$B$2,F29/$C$2,IF(D29=$B$4,F29/$C$4,IF(D29=$B$5,F29/$C$5,IF(D29=$B$6,F29/$C$6,IF(D29=$B$3,F29/$C$3,\"ERROR!!!\")))))","v":0.94736842105263153},90,null,null,null,null,{"$f":"B33","v":"SG3M"},{"$f":"G33","v":2.7387061403508772}]
[null,null,"Robert Kosicki","HFT2",{"$f":"IF(D30=$B$2,F30/$C$2,IF(D30=$B$4,F30/$C$4,IF(D30=$B$5,F30/$C$5,IF(D30=$B$6,F30/$C$6,IF(D30=$B$3,F30/$C$3,\"ERROR!!!\")))))","v":0.89010989010989006},81,null,null,null,null,{"$f":"B39","v":"WSST"},{"$f":"G39","v":2.2979166666666666}]
[null,null,"Marceli Kotkowski","FT",1,95,null,null,null,null,{"$f":"B57","v":0},{"$f":"G57","v":0}]
[null,null,null,null,null,null,null,null,null,null,{"$f":"#REF!","v":{"$error":"#REF!"}},{"$f":"G81","v":0}]
[5,"SG3M","Robert Wróbel","HFT1",{"$f":"IF(D33=$B$2,F33/$C$2,IF(D33=$B$4,F33/$C$4,IF(D33=$B$5,F33/$C$5,IF(D33=$B$6,F33/$C$6,IF(D33=$B$3,F33/$C$3,\"ERROR!!!\")))))","v":0.9375},90,{"$f":"LARGE(E33:E37,1)+LARGE(E33:E37,2)+LARGE(E33:E37,3)","v":2.7387061403508772},{"$f":"G33/$G$4","v":0.93909087491070431},null,null,{"$f":"#REF!","v":{"$error":"#REF!"}},{"$f":"#REF!","v":{"$error":"#REF!"}}]
[null,null,"Dobrosław Dudziak","HFT1",{"$f":"IF(D34=$B$2,F34/$C$2,IF(D34=$B$4,F34/$C$4,IF(D34=$B$5,F34/$C$5,IF(D34=$B$6,F34/$C$6,IF(D34=$B$3,F34/$C$3,\"ERROR!!!\")))))","v":0.77083333333333337},74,null,null,null,null,{"$f":"#REF!","v":{"$error":"#REF!"}},{"$f":"#REF!","v":{"$error":"#REF!"}}]
[null,null,"Piotr Remiszewski","FT",{"$f":"IF(D35=$B$2,F35/$C$2,IF(D35=$B$4,F35/$C$4,IF(D35=$B$5,F35/$C$5,IF(D35=$B$6,F35/$C$6,IF(D35=$B$3,F35/$C$3,\"ERROR!!!\")))))","v":0.91578947368421049},87,null,null,null,null,{"$f":"#REF!","v":{"$error":"#REF!"}},{"$f":"#REF!","v":{"$error":"#REF!"}}]
[null,null,"Aleksandra Wieloszyńska","HFT1",{"$f":"IF(D36=$B$2,F36/$C$2,IF(D36=$B$4,F36/$C$4,IF(D36=$B$5,F36/$C$5,IF(D36=$B$6,F36/$C$6,IF(D36=$B$3,F36/$C$3,\"ERROR!!!\")))))","v":0.88541666666666663},85,null,null,null,null,{"$f":"#REF!","v":{"$error":"#REF!"}},{"$f":"#REF!","v":{"$error":"#REF!"}}]
[null,null,"Arkadiusz Zacharzewski","HFT1",{"$f":"IF(D37=$B$2,F37/$C$2,IF(D37=$B$4,F37/$C$4,IF(D37=$B$5,F37/$C$5,IF(D37=$B$6,F37/$C$6,IF(D37=$B$3,F37/$C$3,\"ERROR!!!\")))))","v":0.85416666666666663},82,null,null,null,null,{"$f":"#REF!","v":{"$error":"#REF!"}},{"$f":"#REF!","v":{"$error":"#REF!"}}]
[null,null,null,null,null,null,null,null,null,null,{"$f":"#REF!","v":{"$error":"#REF!"}},{"$f":"#REF!","v":{"$error":"#REF!"}}]
[6,"WSST",null,"HFT2",{"$f":"IF(D39=$B$2,F39/$C$2,IF(D39=$B$4,F39/$C$4,IF(D39=$B$5,F39/$C$5,IF(D39=$B$6,F39/$C$6,IF(D39=$B$3,F39/$C$3,\"ERROR!!!\")))))","v":0},null,{"$f":"LARGE(E39:E43,1)+LARGE(E39:E43,2)+LARGE(E39:E43,3)","v":2.2979166666666666},{"$f":"G39/$G$4","v":0.78794600894837763}]
[null,null,"Marek Krempczyński","HFT1",{"$f":"IF(D40=$B$2,F40/$C$2,IF(D40=$B$4,F40/$C$4,IF(D40=$B$5,F40/$C$5,IF(D40=$B$6,F40/$C$6,IF(D40=$B$3,F40/$C$3,\"ERROR!!!\")))))","v":0.94791666666666663},91]
[null,null,"Michał Walaszkowski","HFT1",{"$f":"IF(D41=$B$2,F41/$C$2,IF(D41=$B$4,F41/$C$4,IF(D41=$B$5,F41/$C$5,IF(D41=$B$6,F41/$C$6,IF(D41=$B$3,F41/$C$3,\"ERROR!!!\")))))","v":0.75},72]
[null,null,null,"FT",{"$f":"IF(D42=$B$2,F42/$C$2,IF(D42=$B$4,F42/$C$4,IF(D42=$B$5,F42/$C$5,IF(D42=$B$6,F42/$C$6,IF(D42=$B$3,F42/$C$3,\"ERROR!!!\")))))","v":0}]
[null,null,"Tomasz Gacek","FT",{"$f":"IF(D43=$B$2,F43/$C$2,IF(D43=$B$4,F43/$C$4,IF(D43=$B$5,F43/$C$5,IF(D43=$B$6,F43/$C$6,IF(D43=$B$3,F43/$C$3,\"ERROR!!!\")))))","v":0.6},57]
[]
[7,"Orzoł","Cezary Bąbała","HFT1",{"$f":"IF(D45=$B$2,F45/$C$2,IF(D45=$B$4,F45/$C$4,IF(D45=$B$5,F45/$C$5,IF(D45=$B$6,F45/$C$6,IF(D45=$B$3,F45/$C$3,\"ERROR!!!\")))))","v":0.96875},93,{"$f":"LARGE(E45:E49,1)+LARGE(E45:E49,2)+LARGE(E45:E49,3)","v":1.8020833333333335},{"$f":"G45/$G$4","v":0.61792683385344227}]
[null,null,"Wojciech Budziński","HFT1",{"$f":"IF(D46=$B$2,F46/$C$2,IF(D46=$B$4,F46/$C$4,IF(D46=$B$5,F46/$C$5,IF(D46=$B$6,F46/$C$6,IF(D46=$B$3,F46/$C$3,\"ERROR!!!\")))))","v":0.83333333333333337},80]
[null,null,null,"HFT1",{"$f":"IF(D47=$B$2,F47/$C$2,IF(D47=$B$4,F47/$C$4,IF(D47=$B$5,F47/$C$5,IF(D47=$B$6,F47/$C$6,IF(D47=$B$3,F47/$C$3,\"ERROR!!!\")))))","v":0}]
[null,null,null,"HFT1",{"$f":"IF(D48=$B$2,F48/$C$2,IF(D48=$B$4,F48/$C$4,IF(D48=$B$5,F48/$C$5,IF(D48=$B$6,F48/$C$6,IF(D48=$B$3,F48/$C$3,\"ERROR!!!\")))))","v":0}]
[null,null,null,"HFT1",{"$f":"IF(D49=$B$2,F49/$C$2,IF(D49=$B$4,F49/$C$4,IF(D49=$B$5,F49/$C$5,IF(D49=$B$6,F49/$C$6,IF(D49=$B$3,F49/$C$3,\"ERROR!!!\")))))","v":0}]
[]
[8,null,null,"HFT1",{"$f":"IF(D51=$B$2,F51/$C$2,IF(D51=$B$4,F51/$C$4,IF(D51=$B$5,F51/$C$5,IF(D51=$B$6,F51/$C$6,IF(D51=$B$3,F51/$C$3,\"ERROR!!!\")))))","v":0},null,{"$f":"LARGE(E51:E55,1)+LARGE(E51:E55,2)+LARGE(E51:E55,3)","v":0},{"$f":"G51/$G$4","v":0}]
[null,null,null,"HFT1",{"$f":"IF(D52=$B$2,F52/$C$2,IF(D52=$B$4,F52/$C$4,IF(D52=$B$5,F52/$C$5,IF(D52=$B$6,F52/$C$6,IF(D52=$B$3,F52/$C$3,\"ERROR!!!\")))))","v":0}]
[null,null,null,"FT",{"$f":"IF(D53=$B$2,F53/$C$2,IF(D53=$B$4,F53/$C$4,IF(D53=$B$5,F53/$C$5,IF(D53=$B$6,F53/$C$6,IF(D53=$B$3,F53/$C$3,\"ERROR!!!\")))))","v":0}]
[null,null,null,"HFT2",{"$f":"IF(D54=$B$2,F54/$C$2,IF(D54=$B$4,F54/$C$4,IF(D54=$B$5,F54/$C$5,IF(D54=$B$6,F54/$C$6,IF(D54=$B$3,F54/$C$3,\"ERROR!!!\")))))","v":0}]
[null,null,null,"HFT1",{"$f":"IF(D55=$B$2,F55/$C$2,IF(D55=$B$4,F55/$C$4,IF(D55=$B$5,F55/$C$5,IF(D55=$B$6,F55/$C$6,IF(D55=$B$3,F55/$C$3,\"ERROR!!!\")))))","v":0}]
[]
[9,null,null,"HFT1",{"$f":"IF(D57=$B$2,F57/$C$2,IF(D57=$B$4,F57/$C$4,IF(D57=$B$5,F57/$C$5,IF(D57=$B$6,F57/$C$6,IF(D57=$B$3,F57/$C$3,\"ERROR!!!\")))))","v":0},null,{"$f":"LARGE(E57:E61,1)+LARGE(E57:E61,2)+LARGE(E57:E61,3)","v":0},{"$f":"G57/$G$4","v":0}]
[null,null,null,"FT",{"$f":"IF(D58=$B$2,F58/$C$2,IF(D58=$B$4,F58/$C$4,IF(D58=$B$5,F58/$C$5,IF(D58=$B$6,F58/$C$6,IF(D58=$B$3,F58/$C$3,\"ERROR!!!\")))))","v":0}]
[null,null,null,"HFT1",{"$f":"IF(D59=$B$2,F59/$C$2,IF(D59=$B$4,F59/$C$4,IF(D59=$B$5,F59/$C$5,IF(D59=$B$6,F59/$C$6,IF(D59=$B$3,F59/$C$3,\"ERROR!!!\")))))","v":0}]
[null,null,null,"HFT2",{"$f":"IF(D60=$B$2,F60/$C$2,IF(D60=$B$4,F60/$C$4,IF(D60=$B$5,F60/$C$5,IF(D60=$B$6,F60/$C$6,IF(D60=$B$3,F60/$C$3,\"ERROR!!!\")))))","v":0}]
[null,null,null,"HFT2",{"$f":"IF(D61=$B$2,F61/$C$2,IF(D61=$B$4,F61/$C$4,IF(D61=$B$5,F61/$C$5,IF(D61=$B$6,F61/$C$6,IF(D61=$B$3,F61/$C$3,\"ERROR!!!\")))))","v":0}]
[]
[10,null,null,"FT",{"$f":"IF(D63=$B$2,F63/$C$2,IF(D63=$B$4,F63/$C$4,IF(D63=$B$5,F63/$C$5,IF(D63=$B$6,F63/$C$6,IF(D63=$B$3,F63/$C$3,\"ERROR!!!\")))))","v":0},null,{"$f":"LARGE(E63:E67,1)+LARGE(E63:E67,2)+LARGE(E63:E67,3)","v":0},{"$f":"G63/$G$4","v":0}]
[null,null,null,"FT",{"$f":"IF(D64=$B$2,F64/$C$2,IF(D64=$B$4,F64/$C$4,IF(D64=$B$5,F64/$C$5,IF(D64=$B$6,F64/$C$6,IF(D64=$B$3,F64/$C$3,\"ERROR!!!\")))))","v":0}]
[null,null,null,"FT",{"$f":"IF(D65=$B$2,F65/$C$2,IF(D65=$B$4,F65/$C$4,IF(D65=$B$5,F65/$C$5,IF(D65=$B$6,F65/$C$6,IF(D65=$B$3,F65/$C$3,\"ERROR!!!\")))))","v":0}]
[null,null,null,"FT",{"$f":"IF(D66=$B$2,F66/$C$2,IF(D66=$B$4,F66/$C$4,IF(D66=$B$5,F66/$C$5,IF(D66=$B$6,F66/$C$6,IF(D66=$B$3,F66/$C$3,\"ERROR!!!\")))))","v":0}]
[null,null,null,"FT",{"$f":"IF(D67=$B$2,F67/$C$2,IF(D67=$B$4,F67/$C$4,IF(D67=$B$5,F67/$C$5,IF(D67=$B$6,F67/$C$6,IF(D67=$B$3,F67/$C$3,\"ERROR!!!\")))))","v":0}]
[]
[11,null,null,"FT",{"$f":"IF(D69=$B$2,F69/$C$2,IF(D69=$B$4,F69/$C$4,IF(D69=$B$5,F69/$C$5,IF(D69=$B$6,F69/$C$6,IF(D69=$B$3,F69/$C$3,\"ERROR!!!\")))))","v":0},null,{"$f":"LARGE(E69:E73,1)+LARGE(E69:E73,2)+LARGE(E69:E73,3)","v":0},{"$f":"G69/$G$4","v":0}]
[null,null,null,"FT",{"$f":"IF(D70=$B$2,F70/$C$2,IF(D70=$B$4,F70/$C$4,IF(D70=$B$5,F70/$C$5,IF(D70=$B$6,F70/$C$6,IF(D70=$B$3,F70/$C$3,\"ERROR!!!\")))))","v":0}]
[null,null,null,"FT",{"$f":"IF(D71=$B$2,F71/$C$2,IF(D71=$B$4,F71/$C$4,IF(D71=$B$5,F71/$C$5,IF(D71=$B$6,F71/$C$6,IF(D71=$B$3,F71/$C$3,\"ERROR!!!\")))))","v":0}]
[null,null,null,"FT",{"$f":"IF(D72=$B$2,F72/$C$2,IF(D72=$B$4,F72/$C$4,IF(D72=$B$5,F72/$C$5,IF(D72=$B$6,F72/$C$6,IF(D72=$B$3,F72/$C$3,\"ERROR!!!\")))))","v":0}]
[null,null,null,"FT",{"$f":"IF(D73=$B$2,F73/$C$2,IF(D73=$B$4,F73/$C$4,IF(D73=$B$5,F73/$C$5,IF(D73=$B$6,F73/$C$6,IF(D73=$B$3,F73/$C$3,\"ERROR!!!\")))))","v":0}]
[]
[12,null,null,"HFT1",{"$f":"IF(D75=$B$2,F75/$C$2,IF(D75=$B$4,F75/$C$4,IF(D75=$B$5,F75/$C$5,IF(D75=$B$6,F75/$C$6,IF(D75=$B$3,F75/$C$3,\"ERROR!!!\")))))","v":0},null,{"$f":"LARGE(E75:E79,1)+LARGE(E75:E79,2)+LARGE(E75:E79,3)","v":0},{"$f":"G75/$G$4","v":0}]
[null,null,null,"HFT1",{"$f":"IF(D76=$B$2,F76/$C$2,IF(D76=$B$4,F76/$C$4,IF(D76=$B$5,F76/$C$5,IF(D76=$B$6,F76/$C$6,IF(D76=$B$3,F76/$C$3,\"ERROR!!!\")))))","v":0}]
[null,null,null,"HFT1",{"$f":"IF(D77=$B$2,F77/$C$2,IF(D77=$B$4,F77/$C$4,IF(D77=$B$5,F77/$C$5,IF(D77=$B$6,F77/$C$6,IF(D77=$B$3,F77/$C$3,\"ERROR!!!\")))))","v":0}]
[null,null,null,"HFT1",{"$f":"IF(D78=$B$2,F78/$C$2,IF(D78=$B$4,F78/$C$4,IF(D78=$B$5,F78/$C$5,IF(D78=$B$6,F78/$C$6,IF(D78=$B$3,F78/$C$3,\"ERROR!!!\")))))","v":0}]
[null,null,null,"HFT1",{"$f":"IF(D79=$B$2,F79/$C$2,IF(D79=$B$4,F79/$C$4,IF(D79=$B$5,F79/$C$5,IF(D79=$B$6,F79/$C$6,IF(D79=$B$3,F79/$C$3,\"ERROR!!!\")))))","v":0}]
[]
[13,null,null,"HFT1",{"$f":"IF(D81=$B$2,F81/$C$2,IF(D81=$B$4,F81/$C$4,IF(D81=$B$5,F81/$C$5,IF(D81=$B$6,F81/$C$6,IF(D81=$B$3,F81/$C$3,\"ERROR!!!\")))))","v":0},null,{"$f":"LARGE(E81:E85,1)+LARGE(E81:E85,2)+LARGE(E81:E85,3)","v":0},{"$f":"G81/$G$4","v":0}]
[null,null,null,"HFT1",{"$f":"IF(D82=$B$2,F82/$C$2,IF(D82=$B$4,F82/$C$4,IF(D82=$B$5,F82/$C$5,IF(D82=$B$6,F82/$C$6,IF(D82=$B$3,F82/$C$3,\"ERROR!!!\")))))","v":0}]
[null,null,null,"HFT1",{"$f":"IF(D83=$B$2,F83/$C$2,IF(D83=$B$4,F83/$C$4,IF(D83=$B$5,F83/$C$5,IF(D83=$B$6,F83/$C$6,IF(D83=$B$3,F83/$C$3,\"ERROR!!!\")))))","v":0}]
[null,null,null,"HFT1",{"$f":"IF(D84=$B$2,F84/$C$2,IF(D84=$B$4,F84/$C$4,IF(D84=$B$5,F84/$C$5,IF(D84=$B$6,F84/$C$6,IF(D84=$B$3,F84/$C$3,\"ERROR!!!\")))))","v":0}]
[null,null,null,"HFT1",{"$f":"IF(D85=$B$2,F85/$C$2,IF(D85=$B$4,F85/$C$4,IF(D85=$B$5,F85/$C$5,IF(D85=$B$6,F85/$C$6,IF(D85=$B$3,F85/$C$3,\"ERROR!!!\")))))","v":0}]

{"sheet":"WYNIKI","index":1,"n_rows":22,"n_cols":3,"rows_kept":22,"cut":false,"hidden":false,"merged":[]}
[]
[null,"Drużyna","%"]
[1,{"$f":"DRUŻYNY!K14","v":"JURA TEAM"},{"$f":"DRUŻYNY!L14","v":2.9163377192982454}]
[2,{"$f":"DRUŻYNY!K27","v":"WKFT"},{"$f":"DRUŻYNY!L27","v":2.9157894736842103}]
[3,{"$f":"DRUŻYNY!K15","v":"AUTOS WIKING"},{"$f":"DRUŻYNY!L15","v":2.8645833333333335}]
[4,{"$f":"DRUŻYNY!K28","v":"DGST LOK Beaver"},{"$f":"DRUŻYNY!L28","v":2.84192331791016}]
[5,{"$f":"DRUŻYNY!K29","v":"SG3M"},{"$f":"DRUŻYNY!L29","v":2.7387061403508772}]
[6,{"$f":"DRUŻYNY!K30","v":"WSST"},{"$f":"DRUŻYNY!L30","v":2.2979166666666666}]
[7,{"$f":"DRUŻYNY!K17","v":"Orzoł"},{"$f":"DRUŻYNY!L17","v":1.8020833333333335}]
[8,{"$f":"DRUŻYNY!K31","v":0},{"$f":"DRUŻYNY!L31","v":0}]
[9,{"$f":"DRUŻYNY!B69","v":0},{"$f":"DRUŻYNY!G69","v":0}]
[10,{"$f":"DRUŻYNY!K18","v":0},{"$f":"DRUŻYNY!L18","v":0}]
[11,{"$f":"DRUŻYNY!K16","v":0},{"$f":"DRUŻYNY!L16","v":0}]
[12,{"$f":"DRUŻYNY!K19","v":0},{"$f":"DRUŻYNY!L19","v":0}]
[13,{"$f":"[1]Drużyny!B81","v":0},{"$f":"DRUŻYNY!G81","v":0}]
[14]
[15]
[16]
[17]
[18]
[19]
[20]